BEGIN:VCALENDAR
VERSION:2.0
PRODID:-//GLERA - ECPv6.15.20//NONSGML v1.0//EN
CALSCALE:GREGORIAN
METHOD:PUBLISH
X-WR-CALNAME:GLERA
X-ORIGINAL-URL:https://glera.co.uk
X-WR-CALDESC:Events for GLERA
REFRESH-INTERVAL;VALUE=DURATION:PT1H
X-Robots-Tag:noindex
X-PUBLISHED-TTL:PT1H
BEGIN:VTIMEZONE
TZID:Europe/London
BEGIN:DAYLIGHT
TZOFFSETFROM:+0000
TZOFFSETTO:+0100
TZNAME:BST
DTSTART:20220327T010000
END:DAYLIGHT
BEGIN:STANDARD
TZOFFSETFROM:+0100
TZOFFSETTO:+0000
TZNAME:GMT
DTSTART:20221030T010000
END:STANDARD
BEGIN:DAYLIGHT
TZOFFSETFROM:+0000
TZOFFSETTO:+0100
TZNAME:BST
DTSTART:20230326T010000
END:DAYLIGHT
BEGIN:STANDARD
TZOFFSETFROM:+0100
TZOFFSETTO:+0000
TZNAME:GMT
DTSTART:20231029T010000
END:STANDARD
BEGIN:DAYLIGHT
TZOFFSETFROM:+0000
TZOFFSETTO:+0100
TZNAME:BST
DTSTART:20240331T010000
END:DAYLIGHT
BEGIN:STANDARD
TZOFFSETFROM:+0100
TZOFFSETTO:+0000
TZNAME:GMT
DTSTART:20241027T010000
END:STANDARD
BEGIN:DAYLIGHT
TZOFFSETFROM:+0000
TZOFFSETTO:+0100
TZNAME:BST
DTSTART:20250330T010000
END:DAYLIGHT
BEGIN:STANDARD
TZOFFSETFROM:+0100
TZOFFSETTO:+0000
TZNAME:GMT
DTSTART:20251026T010000
END:STANDARD
END:VTIMEZONE
BEGIN:VTIMEZONE
TZID:UTC
BEGIN:STANDARD
TZOFFSETFROM:+0000
TZOFFSETTO:+0000
TZNAME:UTC
DTSTART:20230101T000000
END:STANDARD
END:VTIMEZONE
BEGIN:VEVENT
DTSTART;TZID=Europe/London:20231207T180000
DTEND;TZID=Europe/London:20231207T190000
DTSTAMP:20260421T214010
CREATED:20240413T112923Z
LAST-MODIFIED:20240413T113843Z
UID:2622-1701972000-1701975600@glera.co.uk
SUMMARY:cripplegate ward surgery
DESCRIPTION:Golden Lane Community Centre\n\n\n\nMeet your Cripplegate representatives from 6-7 pm on the first Thursday of each month. \n\n\n\nWe are here to help if you want to talk about matters that affect you\, obtain information and advice\, make a complaint or enquire about council services. \n\n\n\n\nThursday 2 November @ 6 pm – 7 pm Barbican Library\n\n\n\nThursday 7 December @ 6 pm – 7 pm Golden Lane Community Centre\n\n\n\nThursday 4 January @ 6 pm – 7 pm Barbican Library\n\n\n\nThursday 1 February @ 6 pm – 7 pm Golden Lane Community Centre
URL:https://glera.co.uk/events/cripplegate-ward-surgery-dec2023/
LOCATION:Golden Lane Community Centre\, London
CATEGORIES:GLERA
ATTACH;FMTTYPE=image/png:https://glera.co.uk/wp-content/uploads/2024/03/cripplegate-ward-surgery.png
END:VEVENT
BEGIN:VEVENT
DTSTART;TZID=UTC:20240228T180000
DTEND;TZID=UTC:20240228T193000
DTSTAMP:20260421T214010
CREATED:20240304T101725Z
LAST-MODIFIED:20240414T101313Z
UID:38-1709143200-1709148600@glera.co.uk
SUMMARY:GLERA residents' meeting
DESCRIPTION:Sir Ralph Perring Centre\n\n\n\n\n\n\n\n\n\n\n\nEVERYONE WELCOME!!! \n\n\n\n\nGeneral Update \n\n\n\nAn update on latest GLERA activities\, ongoing repairs consultation and Imagine Golden Lane projects. \n\n\n\nMaking the most of the Wardmote \n\n\n\nDo we have any resolutions we want to put forward at the Wardmote in March? Alderwoman Sue Pearson will explain how the process works and why it is important. \n\n\n\nDestination City \n\n\n\nShare your views with Paul Martin\, the consultant appointed to review the Corporation’s Destination City strategy. It’s really important we take this opportunity to share any concerns or insights particularly around night time economies\, provision for families etc. \n\n\n\nStay for refreshments and a chat with Paul – and of course your neighbours!
URL:https://glera.co.uk/events/glera-residents-meeting/
LOCATION:Sir Ralph Perring Centre\, Golden Lane Estate
CATEGORIES:GLERA
ATTACH;FMTTYPE=image/png:https://glera.co.uk/wp-content/uploads/2024/03/GLERA-event-header-1.png
END:VEVENT
BEGIN:VEVENT
DTSTART;TZID=Europe/London:20240522T183000
DTEND;TZID=Europe/London:20240522T203000
DTSTAMP:20260421T214010
CREATED:20240425T104740Z
LAST-MODIFIED:20240524T160845Z
UID:3095-1716402600-1716409800@glera.co.uk
SUMMARY:GLERA residents' meeting | city plan 2040
DESCRIPTION:Sir Ralph Perring Centre\n\n\n\n\n\n\n\n\n\n\n\n \n\n\n\nAll residents are invited to come along for a general catch up on GLERA activities.\n\n\n\n\n\n\n\ncity plan 2040\n\n\n\n\nWe’ll be joined by Rob McNicol\, Assistant Director of Policy and Strategy and his team to tell us more about the City Plan 2040 and the current consultation and how we can respond\, plus answer any questions. The consultation closes 31 May. \n\n\n\nIn the news + updates section you can find city plan 2040 which gives an overview\, a bit of background\, links to draft plan and online consultation\, details of other events etc. The other consultation events are also listed on the events page. \n\n\n\nrepairs contract update\n\n\n\nGLERA sit on the HRA Repairs and Maintenance Resident Working Group as part of the City’s consultation process for the new repairs and maintenance contract. The form of the contract has been decided and leaseholders should have received Section 20 notices – there are two\, one for general repairs and maintenance\, the other for balcony and roof waterproofing works (read more here). We are now being asked to feedback on the content of the tender documents\, the types of questions\, weightings etc (read more here). \n\n\n\nservice charge refund\n\n\n\n\n\nConcerns first raised in 2020 have led to a recent refund in service charges for Crescent House leaseholders (read more here). GLERA is now tackling service charge issues for other blocks.
URL:https://glera.co.uk/events/glera-residents-meeting-april2024/
LOCATION:Sir Ralph Perring Centre\, Golden Lane Estate
CATEGORIES:GLERA
ATTACH;FMTTYPE=image/png:https://glera.co.uk/wp-content/uploads/2024/03/GLERA-event-header-1.png
END:VEVENT
BEGIN:VEVENT
DTSTART;TZID=Europe/London:20240606T190000
DTEND;TZID=Europe/London:20240606T203000
DTSTAMP:20260421T214010
CREATED:20240602T135005Z
LAST-MODIFIED:20240606T122136Z
UID:3714-1717700400-1717705800@glera.co.uk
SUMMARY:general election hustings
DESCRIPTION:Downstairs in the Community Centre\n\n\n\n\n\n\n\n\n\n\n\n\n\n\n\nGLERA has invited all the constituency candidates in the upcoming General Election to come and answer residents’ questions at a hustings\, chaired by our Alderwoman Sue Pearson. \n\n\n\nWe only have capacity for around 70 people so Golden Lane Estate residents will be given priority – please help by turning up at least 10 mins early or reserve a spot by emailing secretary.glera@gmail.com. \n\n\n\nOur friends from the surrounding neighbourhood are of course welcome but it will very much depend on space… \n\n\n\ncandidates\n\n\n\nThe official candidate list will be published by 7 June – at time of writing there are currently six candidates who have declared: \n\n\n\n\nTim Barnes | Conservative \n\n\n\nRachel Blake | Labour \n\n\n\nHuge de Burgh | Social Democratic Party\n\n\n\nEdward Lucas | Liberal Democrats\n\n\n\nGiuseppe Pezzulli | Reform UK\n\n\n\nRajiv Rahul Sinha | Green Party\n\n\n\n\nAll candidates\, apart from Reform UK\, have confirmed they will attend. \n\n\n\nPlease come along with questions that can be posed to all candidates – and we look forward to an informative evening! \n\n\n\nWHO CAN I VOTE FOR?\n\n\n\nare you registered to vote?\n\n\n\nDeadline for registering to vote at the 4 July General Election is 11.59 pm on 18 June. \n\n\n\nREGISTER TO VOTE
URL:https://glera.co.uk/events/general-election-hustings/
LOCATION:Golden Lane Community Centre\, London
CATEGORIES:GLERA
ATTACH;FMTTYPE=image/png:https://glera.co.uk/wp-content/uploads/2024/03/GLERA-updates.png
END:VEVENT
BEGIN:VEVENT
DTSTART;TZID=Europe/London:20240630T104500
DTEND;TZID=Europe/London:20240630T123000
DTSTAMP:20260421T214010
CREATED:20240417T152341Z
LAST-MODIFIED:20240620T120818Z
UID:2897-1719744300-1719750600@glera.co.uk
SUMMARY:GLERA AGM 2024
DESCRIPTION:Golden Lane Community Centre\n\n\n\n\n\n\n\n\n\n\n\n\n\nAt this meeting we will be reviewing the last year and discussing the challenges ahead plus electing our committee and officers for 2024/25 (see current committee here). \n\n\n\nBefore we get down to GLERA AGM business we will have a presentation from the CoL Climate Action Strategy team on the Fann Street Enhancement Project (sometimes referred to as the ‘mini forest’). You can read more about it on the Imagine Golden Lane website \n\n\n\nThe project is being proposed under the Cool Streets and Greening Programme and  \n\n\n\n\n…aims to enhance the public realm on Fann Street adjacent to the Golden Lane Estate to improve climate resilience. This will include creation of new planting beds and a considered approach to the planting design. The outcome will be biodiversity enhancement through extending greening and approaching the sites design in a sustainable and climate resilient manner. \n\n\n\nFollowing two in-depth resident consultation sessions the team have appointed ScottWhitby Studio as the landscape architect to progress and develop detailed design options. These options will be presented at the residents meeting for discussion and feedback to identify the most suitable approach to take forward. \nCoL Climate Action Team\n\n\n\n\n\n\n\nrunning order\n\n\n\n10.45 | whilst the Climate Action Team are setting up join us for tea\, coffee\, cake and general chatter \n\n\n\n11.00 | Chair\, Tim Godsmark will start the meeting with a few words \n\n\n\n11.05 | Fann Street Enhancement Project \n\n\n\n11.30 | GLERA AGM  \n\n\n\n\nChair’s Report\n\n\n\nFinancial Report\n\n\n\nNominations and Voting\n\n\n\n\nAfter seven years Tim Godsmark is stepping down as Chair and our soon to be mandatorily retired(!) Alderwoman Sue Pearson will be putting herself forward to fulfil the role. \n\n\n\nTowards the end of last year and after 10 years in the role Vernon Ashford stepped down as Honorary Treasurer. We currently have an interim Treasurer\, and Tim Godsmark has agreed to stand for the position once he has stepped down as Chair. However\, if you are interested in the role and would like more information please get in touch. \n\n\n\nPlease do think about standing yourself even if it’s in a limited capacity – nobody has a lot of time so we just tackle what we can in our best efforts to represent the interest of residents on the estate. Drop Jacqueline an email on secretary.glera@gmail.com to have a chat and find out more. \n\n\n\nWe will then continue the meeting with general updates and discussion.
URL:https://glera.co.uk/events/glera-agm-2024/
CATEGORIES:GLERA
ATTACH;FMTTYPE=image/png:https://glera.co.uk/wp-content/uploads/2024/03/Logo_proper-colour.png
END:VEVENT
END:VCALENDAR