BEGIN:VCALENDAR
VERSION:2.0
PRODID:-//GLERA - ECPv6.15.20//NONSGML v1.0//EN
CALSCALE:GREGORIAN
METHOD:PUBLISH
X-WR-CALNAME:GLERA
X-ORIGINAL-URL:https://glera.co.uk
X-WR-CALDESC:Events for GLERA
REFRESH-INTERVAL;VALUE=DURATION:PT1H
X-Robots-Tag:noindex
X-PUBLISHED-TTL:PT1H
BEGIN:VTIMEZONE
TZID:Europe/London
BEGIN:DAYLIGHT
TZOFFSETFROM:+0000
TZOFFSETTO:+0100
TZNAME:BST
DTSTART:20210328T010000
END:DAYLIGHT
BEGIN:STANDARD
TZOFFSETFROM:+0100
TZOFFSETTO:+0000
TZNAME:GMT
DTSTART:20211031T010000
END:STANDARD
BEGIN:DAYLIGHT
TZOFFSETFROM:+0000
TZOFFSETTO:+0100
TZNAME:BST
DTSTART:20220327T010000
END:DAYLIGHT
BEGIN:STANDARD
TZOFFSETFROM:+0100
TZOFFSETTO:+0000
TZNAME:GMT
DTSTART:20221030T010000
END:STANDARD
BEGIN:DAYLIGHT
TZOFFSETFROM:+0000
TZOFFSETTO:+0100
TZNAME:BST
DTSTART:20230326T010000
END:DAYLIGHT
BEGIN:STANDARD
TZOFFSETFROM:+0100
TZOFFSETTO:+0000
TZNAME:GMT
DTSTART:20231029T010000
END:STANDARD
BEGIN:DAYLIGHT
TZOFFSETFROM:+0000
TZOFFSETTO:+0100
TZNAME:BST
DTSTART:20240331T010000
END:DAYLIGHT
BEGIN:STANDARD
TZOFFSETFROM:+0100
TZOFFSETTO:+0000
TZNAME:GMT
DTSTART:20241027T010000
END:STANDARD
END:VTIMEZONE
BEGIN:VEVENT
DTSTART;TZID=Europe/London:20230306T190000
DTEND;TZID=Europe/London:20230306T210000
DTSTAMP:20260420T132510
CREATED:20240414T112157Z
LAST-MODIFIED:20240414T113903Z
UID:2816-1678129200-1678136400@glera.co.uk
SUMMARY:cripplegate by-election hustings
DESCRIPTION:Golden Lane Community Centre\n\n\n\n\n\n\n\nIn September 2023 then Cripplegate Councillor Sue Pearson was elected Alderwoman\, resulting in the upcoming by-election on 23 March. \n\n\n\nThe candidates will be formally announced on Thursday March 2. Please come along to meet them at one of the following Hustings organised by GLERA and the Barbican Association: \n\n\n\nMonday 6 March at 7 pmGolden Lane Community Centre (downstairs) \n\n\n\nTuesday 7 March at 7 pmSt Giles Church\, Barbican \n\n\n\nAll Cripplegate residents are welcome at both events – this is your chance to hear how the candidates plan and hope to best represent us.
URL:https://glera.co.uk/events/hustings-march2023/
LOCATION:Golden Lane Community Centre\, London
CATEGORIES:GLERA
ATTACH;FMTTYPE=image/png:https://glera.co.uk/wp-content/uploads/2024/03/Screenshot-2024-04-13-at-15.50.20.png
END:VEVENT
BEGIN:VEVENT
DTSTART;TZID=Europe/London:20230203T190000
DTEND;TZID=Europe/London:20230203T210000
DTSTAMP:20260420T132510
CREATED:20240327T120100Z
LAST-MODIFIED:20240414T101503Z
UID:1854-1675450800-1675458000@glera.co.uk
SUMMARY:GLERA residents' meeting
DESCRIPTION:Golden Lane Community Centre\n\n\n\n\n\n\n\n\n\n\n\nEVERYONE WELCOME!!! We’ll be reporting back on continuing efforts to tackle anti-social behaviour\, update on the Bike Project\, discussing Beech Street proposals\, mould survey… \n\n\n\nMOULD SURVEYOur Cripplegate Councillors are very concerned about reports of mould in our homes and want to hear from residents about the their experiences tackling the problem. Fill in the GLERA mould survey (link removed as survey now closed)or if your prefer a paper copy call Cllr Anne Corbett on 07513 703038. \n\n\n\nBEECH STREET TUNNELNew zero emissions proposals for the Beech Street tunnel could see Golden Lane turn into a rat run for petrol and diesel vehicles. (link removed as survey removed now closed). \n\n\n\nREPORT ASBRemember to keep reporting any anti-social behaviour so as our local policing can have a clearer picture of incidents on the estate and how to deploy resources (we are generally very bad at reporting). If the incident is threatening or in progress call 999 or Bishopsgate Police on 020 7601 222. \n\n\n\nREPORT ASB\n\n\n\nAnd don’t forget Cripplegate Ward Meeting on Wednesday 1 February @ 7pm at St Giles Church – a chance to hear what our Councillors and new Alderman have been up to\, ask any questions\, plus speakers from Climate Action Strategy team and the Green Doctors.
URL:https://glera.co.uk/events/1854/
LOCATION:Golden Lane Community Centre\, London
CATEGORIES:GLERA
ATTACH;FMTTYPE=image/png:https://glera.co.uk/wp-content/uploads/2024/03/GLERA-event-header-1.png
END:VEVENT
BEGIN:VEVENT
DTSTART;TZID=Europe/London:20221031T190000
DTEND;TZID=Europe/London:20221031T210000
DTSTAMP:20260420T132510
CREATED:20240326T154924Z
LAST-MODIFIED:20240414T100710Z
UID:1773-1667242800-1667250000@glera.co.uk
SUMMARY:GLERA residents' meeeting
DESCRIPTION:Golden Lane Community Centre\n\n\n\n\n\n\n\nWe’ll be reporting back on GLERA committee efforts to follow up on frustration expressed at the AGM around reporting repairs and anti-social behaviour.Our local MP Nickie Aiken will be there along with many of our local councillors and our new Alderwoman\, Sue Pearson. \n\n\n\nWe’ll also have useful information about what help should be on offer to mitigate against the cold this winter\, along with feedback from the Insulate Golden Lane workshop.
URL:https://glera.co.uk/events/glera-residents-meeeting/
LOCATION:Golden Lane Community Centre\, London
CATEGORIES:GLERA
ATTACH;FMTTYPE=image/png:https://glera.co.uk/wp-content/uploads/2024/03/GLERA-event-header-1.png
END:VEVENT
BEGIN:VEVENT
DTSTART;TZID=Europe/London:20220825T193000
DTEND;TZID=Europe/London:20220825T210000
DTSTAMP:20260420T132510
CREATED:20240414T113233Z
LAST-MODIFIED:20240414T113704Z
UID:2821-1661455800-1661461200@glera.co.uk
SUMMARY:cripplegate aldermanic hustings
DESCRIPTION:Golden Lane Community Centre\n\n\n\n\n\n\n\nGLERA and Barbican Association have organised hustings for the upcoming Cripplegate Aldermanic election on 15 September: \n\n\n\nThursday 25 August at 7.30 pmGolden Lane Community Centre (downstairs) \n\n\n\nThursday 1 September at 7.00 pmSt Giles Church\, Barbican \n\n\n\nPlease come along to either meeting – this is your chance to meet and question the candidates: \n\n\n\nJeremy MayhewFormer Councillor for Aldersgate \n\n\n\nDeputy Sue PearsonCouncillor for Cripplegate
URL:https://glera.co.uk/events/hustings-aug2023/
LOCATION:Golden Lane Community Centre\, London
CATEGORIES:GLERA
ATTACH;FMTTYPE=image/png:https://glera.co.uk/wp-content/uploads/2024/03/Screenshot-2024-04-13-at-15.50.20.png
END:VEVENT
BEGIN:VEVENT
DTSTART;TZID=Europe/London:20220618T140000
DTEND;TZID=Europe/London:20220618T160000
DTSTAMP:20260420T132510
CREATED:20240327T121123Z
LAST-MODIFIED:20240414T100524Z
UID:1860-1655560800-1655568000@glera.co.uk
SUMMARY:GLERA AGM 2022
DESCRIPTION:Golden Lane Community Centre\n\n\n\n\n\n\n\nAll residents of the Golden Lane Estate are members of the Golden Lane Estate Residents’ Association unless they opt out. Your committee is up for election and we are having our AGM. This a great opportunity to meet your neighbours and get involved in what is happening on the Estate. \n\n\n\nagenda items\n\n\n\n\nChair’s report on the activities for the year\n\n\n\nTreasurer’s report on the accounts and a vote on their approval\n\n\n\nVotes for the new committee\n\n\n\nReports and discussions on any other issues\n\n\n\n\nGLERA activities\n\n\n\nWhat has the GLERA been doing for you in the past year? We have: \n\n\n\n\nEngaged with the City over the windows replacement/refurbishment programme and other major works\n\n\n\nLiaised with the residents’ associations in the Barbican and Middlesex Street to present a united front to the City\n\n\n\nApplying and getting a grant for the Christmas carols\n\n\n\nApplying and getting a grant for the summer event\n\n\n\nArranging the hustings for the Council elections\n\n\n\nHelping to arrange the Imagine Golden Lane events\n\n\n\nHad discussions with the City about adjusting everyone’s service charges to reflect changes on the Estate\n\n\n\nHad discussions with the City about rewriting leaseholder’s leases to reflect changes on the Estate\n\n\n\n\nlooking forward\n\n\n\nIssues for the next year will be the increased level of footfall over the Estate now Crossrail is open\, anti-social behaviour\, community cohesion as we emerge from the pandemic and anything else that comes up. We have recently been trying to focus on community events and community conversations. To keep this going we will apply for more grants for social events.
URL:https://glera.co.uk/events/1860/
LOCATION:Golden Lane Community Centre\, London
CATEGORIES:GLERA
ATTACH;FMTTYPE=image/png:https://glera.co.uk/wp-content/uploads/2024/03/GLERA-event-header-1.png
END:VEVENT
BEGIN:VEVENT
DTSTART;TZID=Europe/London:20220312T150000
DTEND;TZID=Europe/London:20220312T170000
DTSTAMP:20260420T132510
CREATED:20240414T115224Z
LAST-MODIFIED:20240414T115415Z
UID:2831-1647097200-1647104400@glera.co.uk
SUMMARY:cripplegate hustings
DESCRIPTION:Golden Lane Community Centre\n\n\n\n\n\n\n\n\n\n\n\nCome and meet the candidates for the upcoming Council elections on Thursday 24 March: \n\n\n\n\nMark Bostock (INDEPENDENT)\n\n\n\nAnne Corbett (LABOUR PARTY)\n\n\n\nLiz King (INDEPENDENT)\n\n\n\nFrances Leach (LABOUR PARTY)\n\n\n\nNatasha Lloyd-Owen (LABOUR PARTY)\n\n\n\nShazaah Masood (INDEPENDENT)\n\n\n\nSue Pearson (INDEPENDENT)\n\n\n\nPaul Singh (INDEPENDENT)\n\n\n\nSimon Walsh (INDEPENDENT)\n\n\n\nCeri Wilkins (INDEPENDENT)\n\n\n\n\nMark Bostock and Sue Pearson are both standing for re-election.
URL:https://glera.co.uk/events/cripplegate-hustings-march2022/
LOCATION:Golden Lane Community Centre\, London
CATEGORIES:GLERA
ATTACH;FMTTYPE=image/png:https://glera.co.uk/wp-content/uploads/2024/03/GLERA-event-header-1.png
END:VEVENT
END:VCALENDAR