BEGIN:VCALENDAR
VERSION:2.0
PRODID:-//GLERA - ECPv6.15.20//NONSGML v1.0//EN
CALSCALE:GREGORIAN
METHOD:PUBLISH
X-WR-CALNAME:GLERA
X-ORIGINAL-URL:https://glera.co.uk
X-WR-CALDESC:Events for GLERA
REFRESH-INTERVAL;VALUE=DURATION:PT1H
X-Robots-Tag:noindex
X-PUBLISHED-TTL:PT1H
BEGIN:VTIMEZONE
TZID:Europe/London
BEGIN:DAYLIGHT
TZOFFSETFROM:+0000
TZOFFSETTO:+0100
TZNAME:BST
DTSTART:20220327T010000
END:DAYLIGHT
BEGIN:STANDARD
TZOFFSETFROM:+0100
TZOFFSETTO:+0000
TZNAME:GMT
DTSTART:20221030T010000
END:STANDARD
BEGIN:DAYLIGHT
TZOFFSETFROM:+0000
TZOFFSETTO:+0100
TZNAME:BST
DTSTART:20230326T010000
END:DAYLIGHT
BEGIN:STANDARD
TZOFFSETFROM:+0100
TZOFFSETTO:+0000
TZNAME:GMT
DTSTART:20231029T010000
END:STANDARD
BEGIN:DAYLIGHT
TZOFFSETFROM:+0000
TZOFFSETTO:+0100
TZNAME:BST
DTSTART:20240331T010000
END:DAYLIGHT
BEGIN:STANDARD
TZOFFSETFROM:+0100
TZOFFSETTO:+0000
TZNAME:GMT
DTSTART:20241027T010000
END:STANDARD
END:VTIMEZONE
BEGIN:VEVENT
DTSTART;TZID=Europe/London:20230617T140000
DTEND;TZID=Europe/London:20230617T153000
DTSTAMP:20260421T005449
CREATED:20240327T102054Z
LAST-MODIFIED:20240414T100852Z
UID:1833-1687010400-1687015800@glera.co.uk
SUMMARY:GLERA AGM 2023
DESCRIPTION:Downstairs in the Community Centre\n\n\n\n\n\n\n\n\n\n\n\nFeel free to drop by from about 2 pm. Our MP Nickie Aiken will be around\, along with a number of our Councillors. \n\n\n\nAll residents of the Golden Lane Estate are members of GLERA unless they opt out. At the AGM we will review the past year and the challenges we face going forward. We will also elect our new Committee for 2023/24. Please come along – this a great opportunity to meet your neighbours and get involved. \n\n\n\ncommittee 2022/23\n\n\n\n\nChair | Tim Godsmark (Hatfield)\n\n\n\nDeputy Chair | Gaby Robertshaw (Crescent)\n\n\n\nTreasurer | Vernon Ashford (Cullum Welch)\n\n\n\nSecretary | Jacqueline Swanson (Basterfield)\n\n\n\nCommittee member | David Cox (Basterfield)\n\n\n\nCommittee Member | Paul Lincoln (Basterfield)\n\n\n\nCo-opted | Lizette Dodds (Bayer)\n\n\n\n\njoin the committee for 2023/24\n\n\n\nGLERA is just a few of your neighbours trying to juggle work\, family and other life demands\, whilst doing what we can to improve life on the estate\, working closely with our Councillors and using our recognised status as a resident association as best we can. If you can get involved\, please do. We need you! \n\n\n\nThe Officer roles are Chair\, Treasurer and Secretary (which comes with a monthly stipend of £100)\, along with up to an additional nine Committee members. \n\n\n\nInterested? email secretary.glera@gmail.com \n\n\n\nGLERA RULES + CONSTITUTION (June 2011)\n\n\n\nnominations so far\n\n\n\nChair | Co-ChairsTim Godsmark (Hatfield) + Gaby Robertshaw (Crescent)TreasurerVernon Ashford (Cullum Welch)SecretaryJacqueline Swanson (Basterfield)CommitteeDavid Cox (Basterfield)Lizette Dodds (Bayer) \n\n\n\nagenda items\n\n\n\n\nChair’s report on the activities for the year\n\n\n\nTreasurer’s report on the accounts and a vote on their approval\n\n\n\nVotes for the new committee\n\n\n\nReports and discussions on any other issues:\n\nTackling anti-social behaviour on the Estate: PC Russell Pengelly (ASB lead / Design Out Crime Officer) will be with us to discuss the review he undertook in February. Also\, an update on increased policing levels and new ways of engaging with our community\n\n\n\nImagine Golden Lane: update on Bike Project and meetings with City of London’s Climate Action Team\n\n\n\nUpdate on Repairs process and upcoming new contract: follow up on the GLERA meeting in May\, and Cllr Anne Corbett will update on follow up actions of Councillors\n\n\n\nMaintenance\n\n\n\nMajor Works\n\n\n\nLease extensions (and other lease related issues)\n\n\n\n\n\n\nPC PENGELLY’S ASB REVIEW
URL:https://glera.co.uk/events/glera-agm-2023/
LOCATION:Golden Lane Community Centre\, London
CATEGORIES:GLERA
ATTACH;FMTTYPE=image/png:https://glera.co.uk/wp-content/uploads/2024/03/GLERA-event-header-1.png
END:VEVENT
END:VCALENDAR