BEGIN:VCALENDAR
VERSION:2.0
PRODID:-//GLERA - ECPv6.15.20//NONSGML v1.0//EN
CALSCALE:GREGORIAN
METHOD:PUBLISH
X-ORIGINAL-URL:https://glera.co.uk
X-WR-CALDESC:Events for GLERA
REFRESH-INTERVAL;VALUE=DURATION:PT1H
X-Robots-Tag:noindex
X-PUBLISHED-TTL:PT1H
BEGIN:VTIMEZONE
TZID:Europe/London
BEGIN:DAYLIGHT
TZOFFSETFROM:+0000
TZOFFSETTO:+0100
TZNAME:BST
DTSTART:20220327T010000
END:DAYLIGHT
BEGIN:STANDARD
TZOFFSETFROM:+0100
TZOFFSETTO:+0000
TZNAME:GMT
DTSTART:20221030T010000
END:STANDARD
BEGIN:DAYLIGHT
TZOFFSETFROM:+0000
TZOFFSETTO:+0100
TZNAME:BST
DTSTART:20230326T010000
END:DAYLIGHT
BEGIN:STANDARD
TZOFFSETFROM:+0100
TZOFFSETTO:+0000
TZNAME:GMT
DTSTART:20231029T010000
END:STANDARD
BEGIN:DAYLIGHT
TZOFFSETFROM:+0000
TZOFFSETTO:+0100
TZNAME:BST
DTSTART:20240331T010000
END:DAYLIGHT
BEGIN:STANDARD
TZOFFSETFROM:+0100
TZOFFSETTO:+0000
TZNAME:GMT
DTSTART:20241027T010000
END:STANDARD
END:VTIMEZONE
BEGIN:VEVENT
DTSTART;TZID=Europe/London:20230525T183000
DTEND;TZID=Europe/London:20230525T200000
DTSTAMP:20260421T022458
CREATED:20240327T103028Z
LAST-MODIFIED:20240414T101629Z
UID:1835-1685039400-1685044800@glera.co.uk
SUMMARY:we need to talk about repairs...
DESCRIPTION:Sir Ralph Perring Centre\n\n\n\n\n\n\n\n\n\nMike Saunders\, Head of Asset Management and Repairs + Maintenance for the Corporation\, has kindly agreed to come and speak to residents about the new repairs reporting system\, the issues they are trying to resolve\, and the improvements we should hopefully see as a result of the software upgrade made last July. \n\n\n\nThe repairs contract is coming up for renewal so please come along to give him feedback on how to improve the service provided by contractors or email secretary.glera@gmail.com \n\n\n\nThe meeting will be co-chaired by Tim Godsmark\, GLERA Chair and GLE resident Cllr Ceri Wilkins.
URL:https://glera.co.uk/events/we-need-to-talk-about-repairs/
LOCATION:Sir Ralph Perring Centre\, Golden Lane Estate
CATEGORIES:GLERA
ATTACH;FMTTYPE=image/png:https://glera.co.uk/wp-content/uploads/2024/03/GLERA-event-header-1.png
END:VEVENT
END:VCALENDAR